BEGIN:VCALENDAR
VERSION:2.0
PRODID:-//WILL Seneca Falls - ECPv6.0.0.1//NONSGML v1.0//EN
CALSCALE:GREGORIAN
METHOD:PUBLISH
X-ORIGINAL-URL:http://willsenecafalls.org
X-WR-CALDESC:Events for WILL Seneca Falls
REFRESH-INTERVAL;VALUE=DURATION:PT1H
X-Robots-Tag:noindex
X-PUBLISHED-TTL:PT1H
BEGIN:VTIMEZONE
TZID:America/New_York
BEGIN:DAYLIGHT
TZOFFSETFROM:-0500
TZOFFSETTO:-0400
TZNAME:EDT
DTSTART:20230312T070000
END:DAYLIGHT
BEGIN:STANDARD
TZOFFSETFROM:-0400
TZOFFSETTO:-0500
TZNAME:EST
DTSTART:20231105T060000
END:STANDARD
END:VTIMEZONE
BEGIN:VEVENT
DTSTART;TZID=America/New_York:20230721T100000
DTEND;TZID=America/New_York:20230722T170000
DTSTAMP:20260422T224821
CREATED:20230522T231044Z
LAST-MODIFIED:20230522T231044Z
UID:32192-1689933600-1690045200@willsenecafalls.org
SUMMARY:ERA Centennial Convention Planned for July 21-22
DESCRIPTION:On July 21-22 in Seneca Falls\, two women’s rights organizations will host an inter-generational convention to examine the status and action items remaining for passage of the Equal Rights Amendment. \nLead activist groups Generation Ratify and Equal Rights Action will kick off a nationwide effort to gain passage of the ERA by joining forces and building a network of advocates.  Their goal is to inspire participation by students\, cultivating the next generation of equality activists.  For the kick-off Convention in Seneca Falls\, they hope to have at least one student from each state participate. \nThe convention will consist of workshops and dialogue to formulate a strategy to gain passage of the ERA.  Aimed at college-level students\, the event is open to the public who must register to participate.  Check EventBrite for pricing\, which differs according to the age of the registrant. \n 
URL:http://willsenecafalls.org/event/era-centennial-convention-planned-for-july-21-22/
END:VEVENT
END:VCALENDAR