BEGIN:VCALENDAR
VERSION:2.0
PRODID:-//WILL Seneca Falls - ECPv6.0.0.1//NONSGML v1.0//EN
CALSCALE:GREGORIAN
METHOD:PUBLISH
X-WR-CALNAME:WILL Seneca Falls
X-ORIGINAL-URL:http://willsenecafalls.org
X-WR-CALDESC:Events for WILL Seneca Falls
REFRESH-INTERVAL;VALUE=DURATION:PT1H
X-Robots-Tag:noindex
X-PUBLISHED-TTL:PT1H
BEGIN:VTIMEZONE
TZID:America/New_York
BEGIN:DAYLIGHT
TZOFFSETFROM:-0500
TZOFFSETTO:-0400
TZNAME:EDT
DTSTART:20220313T070000
END:DAYLIGHT
BEGIN:STANDARD
TZOFFSETFROM:-0400
TZOFFSETTO:-0500
TZNAME:EST
DTSTART:20221106T060000
END:STANDARD
END:VTIMEZONE
BEGIN:VEVENT
DTSTART;TZID=America/New_York:20220923T160000
DTEND;TZID=America/New_York:20220925T160000
DTSTAMP:20260423T110809
CREATED:20191211T112951Z
LAST-MODIFIED:20220825T221212Z
UID:17443-1663948800-1664121600@willsenecafalls.org
SUMMARY:National Women's Hall of Fame Induction 2022
DESCRIPTION:National Women’s Hall of Fame will celebrate its biennial Induction the weekend of September 23-25\, 2022.   The Hall will honor the remarkable lives and achievements of their class of 2021 Inductees:  Octavia E. Butler\, Judy Chicago\, Rebecca Halstead\, Mia Hamm\, Joy Harjo\, Emily Howland\, Katherine Johnson\, Indra Nooyi\, and Michelle Obama. \nLearn more about each inductee and the weekend’s festivities by going to womenofthehall.org.  Tickets to the Induction Ceremony on Saturday\, September 24\, are still available. \n 
URL:http://willsenecafalls.org/event/another-event-youre-just-promoting/
LOCATION:National Women’s Hall of Fame\, 1 Canal Street\, Seneca Falls\, NY\, 13148\, United States
ATTACH;FMTTYPE=image/png:http://willsenecafalls.org/wp-content/uploads/2019/12/nwhflogo.png
ORGANIZER;CN="NWHF":MAILTO:admin@womenofthehall.org
END:VEVENT
END:VCALENDAR