BEGIN:VCALENDAR
VERSION:2.0
PRODID:-//WILL Seneca Falls - ECPv6.0.0.1//NONSGML v1.0//EN
CALSCALE:GREGORIAN
METHOD:PUBLISH
X-WR-CALNAME:WILL Seneca Falls
X-ORIGINAL-URL:http://willsenecafalls.org
X-WR-CALDESC:Events for WILL Seneca Falls
REFRESH-INTERVAL;VALUE=DURATION:PT1H
X-Robots-Tag:noindex
X-PUBLISHED-TTL:PT1H
BEGIN:VTIMEZONE
TZID:America/New_York
BEGIN:DAYLIGHT
TZOFFSETFROM:-0500
TZOFFSETTO:-0400
TZNAME:EDT
DTSTART:20220313T070000
END:DAYLIGHT
BEGIN:STANDARD
TZOFFSETFROM:-0400
TZOFFSETTO:-0500
TZNAME:EST
DTSTART:20221106T060000
END:STANDARD
END:VTIMEZONE
BEGIN:VEVENT
DTSTART;TZID=America/New_York:20221010T190000
DTEND;TZID=America/New_York:20221010T210000
DTSTAMP:20260422T115552
CREATED:20220302T170606Z
LAST-MODIFIED:20220826T200138Z
UID:28182-1665428400-1665435600@willsenecafalls.org
SUMMARY:Musical Tribute to Joanne Shenandoah
DESCRIPTION:A special memorial and concert to celebrate the legacy of Grammy winner and famed Native American singer and songwriter\, Joanne Shenandoah\, at Auburn Public Theater\, downtown Auburn\, New York.  The tribute concert features Joanne’s dear friends and family members: The Ripcords with Rex Lyons & Irv Lyons\, Jr. (Oneida Nation)\, ripping it up with Blues\, Latin & Tex Mex music; soulful vocals by Pura Fe (Tuscarora/Taino); recording artist and humanitarian\, Joanelle Romero (Apache/Cheyenne); Joanne’s performing partners including her sister\, Diane\, and daughter\, Leah (Oneida Nation); and others. \nThis event is sponsored by Dr. Bob and Zohara Hieronimus; Cayuga Community College Student Activities Board; Wells College; Central New York National Organization for Women (CNY NOW); and Women’s Institute for Leadership and Learning (WILL). \nTickets are available at Auburn Public Theater or at AuburnPublicTheater.org.  All event proceeds will benefit the Joanne Shenandoah family.
URL:http://willsenecafalls.org/event/tribute-concert-joanne-shenandoah/
LOCATION:Auburn Public Theater\, 8 Exchange St\, Auburn\, NY\, 13021\, United States
CATEGORIES:Seneca Falls Dialogues
ATTACH;FMTTYPE=image/png:http://willsenecafalls.org/wp-content/uploads/2022/03/Tribute-Concert-Thumbnail2.png
ORGANIZER;CN="WomenMarch%20Seneca%20Falls":MAILTO:info@senecafallsdialogues.org
END:VEVENT
END:VCALENDAR