BEGIN:VCALENDAR
VERSION:2.0
PRODID:-//WILL Seneca Falls - ECPv6.0.0.1//NONSGML v1.0//EN
CALSCALE:GREGORIAN
METHOD:PUBLISH
X-ORIGINAL-URL:http://willsenecafalls.org
X-WR-CALDESC:Events for WILL Seneca Falls
REFRESH-INTERVAL;VALUE=DURATION:PT1H
X-Robots-Tag:noindex
X-PUBLISHED-TTL:PT1H
BEGIN:VTIMEZONE
TZID:America/New_York
BEGIN:DAYLIGHT
TZOFFSETFROM:-0500
TZOFFSETTO:-0400
TZNAME:EDT
DTSTART:20220313T070000
END:DAYLIGHT
BEGIN:STANDARD
TZOFFSETFROM:-0400
TZOFFSETTO:-0500
TZNAME:EST
DTSTART:20221106T060000
END:STANDARD
END:VTIMEZONE
BEGIN:VEVENT
DTSTART;TZID=America/New_York:20221007T180000
DTEND;TZID=America/New_York:20221009T140000
DTSTAMP:20260423T093856
CREATED:20220802T160427Z
LAST-MODIFIED:20220911T132045Z
UID:28180-1665165600-1665324000@willsenecafalls.org
SUMMARY:2022 Seneca Falls Dialogues
DESCRIPTION:Rematriation: Restoring Balance to Humanity\nThe 2022 Seneca Falls Dialogues event will engage all audiences with an intriguing look at social influences\, governance\, peace and the limited resources humankind must share to survive.   Rematriation: Restoring Balance to Humanity will bring participants on a journey that will challenge existing perspectives and educate through active dialogue and participation. \nGoverned by principles of peace for over 1000 years\, the Haudenosaunee Confederacy is the oldest living democracy on the planet.  Haudenosaunee women will share knowledge and insight into a healing world view. \nAt a time when many seek answers\, is it possible that ancient traditions hold the key to our survival? \nJoin us October 7\, 8\, 9 for a conference that focuses on an exchange of significant ideas in the tradition of Stanton and Anthony.  Learn how to apply Haudenosaunee wisdom and become an ally for Rematriation. \nSeveral registration options are available\, including an all-access pass to weekend events.  For those unable to participate in the entire weekend\, there is a Dinner-only and/or Sunday-Brunch-only option offered as well.   \n\nFor registration information\, click here.\n \nA special event on October 10 ends the Dialogues weekend\, as Women March and CNY NOW host a special musical tribute to honor the legacy of Joanne Shenandoah at Auburn Public Theater.  Get tickets to the concert here.
URL:http://willsenecafalls.org/event/2022-seneca-falls-dialogues/
LOCATION:Quality Inn Waterloo/Seneca Falls\, 2468 NY Route 414\, Waterloo\, NY\, 13165\, United States
CATEGORIES:Seneca Falls Dialogues
ATTACH;FMTTYPE=image/png:http://willsenecafalls.org/wp-content/uploads/2022/08/Event-Poster-2022-Dialogues-1.png
ORGANIZER;CN="WomenMarch%20Seneca%20Falls":MAILTO:info@senecafallsdialogues.org
END:VEVENT
END:VCALENDAR